BEGIN:VCALENDAR
VERSION:2.0
PRODID:-//QatarDebate Center - ECPv6.15.20//NONSGML v1.0//EN
CALSCALE:GREGORIAN
METHOD:PUBLISH
X-WR-CALNAME:QatarDebate Center
X-ORIGINAL-URL:https://qatardebate.org
X-WR-CALDESC:Events for QatarDebate Center
REFRESH-INTERVAL;VALUE=DURATION:PT1H
X-Robots-Tag:noindex
X-PUBLISHED-TTL:PT1H
BEGIN:VTIMEZONE
TZID:Asia/Qatar
BEGIN:STANDARD
TZOFFSETFROM:+0300
TZOFFSETTO:+0300
TZNAME:+03
DTSTART:20200101T000000
END:STANDARD
END:VTIMEZONE
BEGIN:VEVENT
DTSTART;TZID=Asia/Qatar:20210930T140000
DTEND;TZID=Asia/Qatar:20210930T160000
DTSTAMP:20260423T210427
CREATED:20210926T075406Z
LAST-MODIFIED:20210926T075408Z
UID:5382-1633010400-1633017600@qatardebate.org
SUMMARY:Youth4Climate at Milan
DESCRIPTION:QatarDebate at the Youth4Climate event in Milan\n  \nIn partnership with Connect4Climate\, Earth Day\, and the Italian Government\, Qatar Foundation is hosting 10 unique sessions and activations at the Youth4Climate event in Milan\, Italy under the theme of “Unlocking Potential\, Driving Ambition” \nThe events are happening September 28th – October 1st at three venues in Milan\, please check the details below to sign up for the events. \n  \n \n  \nQatarDebate is joining Qatar Foundation in hosting a public debate during the Youth4Climate event to raise awareness about our environment and drive towards ambitious climate actions. \nDebate: Transforming societal views towards the environment\n30\, September @ 2 PM \n  \nYoung activists debate and discuss the reforms needed to transform societal attitude towards the environment. There is no room for generic conversation as debaters get challenged and have in depth discussions on the most effective methods of engaging people\, navigating around cultural norms and traditions\, fighting fake news\, cultivating grassroots movements\, policy reforms\, and more.
URL:https://qatardebate.org/event/youth4climate/
CATEGORIES:Outreach Programs
ATTACH;FMTTYPE=image/jpeg:https://qatardebate.org/wp-content/uploads/2021/09/shutterstock_1537208690-scaled.jpg
END:VEVENT
END:VCALENDAR