BEGIN:VCALENDAR
VERSION:2.0
PRODID:-//QatarDebate Center - ECPv6.15.20//NONSGML v1.0//EN
CALSCALE:GREGORIAN
METHOD:PUBLISH
X-WR-CALNAME:QatarDebate Center
X-ORIGINAL-URL:https://qatardebate.org
X-WR-CALDESC:Events for QatarDebate Center
REFRESH-INTERVAL;VALUE=DURATION:PT1H
X-Robots-Tag:noindex
X-PUBLISHED-TTL:PT1H
BEGIN:VTIMEZONE
TZID:Asia/Qatar
BEGIN:STANDARD
TZOFFSETFROM:+0300
TZOFFSETTO:+0300
TZNAME:+03
DTSTART:20220101T000000
END:STANDARD
END:VTIMEZONE
BEGIN:VEVENT
DTSTART;TZID=Asia/Qatar:20230513T080000
DTEND;TZID=Asia/Qatar:20230518T170000
DTSTAMP:20260425T193800
CREATED:20230315T083254Z
LAST-MODIFIED:20230315T110927Z
UID:11188-1683964800-1684429200@qatardebate.org
SUMMARY:National Schools Debating Championships
DESCRIPTION:The National Schools Debating Championships\n  \nTo conclude the 2022-2023 debate season\, the top schools in the debate season will compete for the national championship title for this year’s season. \n  \nQatarDebate will host the qualification rounds for the national championship\, for secondary schools and preparatory schools\, both for boys and girls\, followed by the grand finals. \n  \nChampionships Schedule: \n\n13th May 2023\n\nThe preliminary and qualification rounds for all categories.\n\n\n\n  \n\n15th May 2023\n\nThe grand final for secondary schools – girls\n\n\n16th May 2023\n\nThe grand final for secondary schools – boys\n\n\n17th May 2023\n\nThe grand final for preparatory schools – girls\n\n\n18th May 2023\n\nThe grand final for preparatory schools – boys
URL:https://qatardebate.org/event/national-schools-debating-championships/
LOCATION:Doha\, Qatar\, Education City\, Doha\, Doha\, 00974\, Qatar
CATEGORIES:English Programs
ATTACH;FMTTYPE=image/jpeg:https://qatardebate.org/wp-content/uploads/2023/03/DCC-199.jpg
ORGANIZER;CN="QatarDebate":MAILTO:qatardebate@qf.org.qa
END:VEVENT
END:VCALENDAR