BEGIN:VCALENDAR
VERSION:2.0
PRODID:-//QatarDebate Center - ECPv6.15.20//NONSGML v1.0//EN
CALSCALE:GREGORIAN
METHOD:PUBLISH
X-WR-CALNAME:QatarDebate Center
X-ORIGINAL-URL:https://qatardebate.org
X-WR-CALDESC:Events for QatarDebate Center
REFRESH-INTERVAL;VALUE=DURATION:PT1H
X-Robots-Tag:noindex
X-PUBLISHED-TTL:PT1H
BEGIN:VTIMEZONE
TZID:Asia/Qatar
BEGIN:STANDARD
TZOFFSETFROM:+0300
TZOFFSETTO:+0300
TZNAME:+03
DTSTART:20180101T000000
END:STANDARD
END:VTIMEZONE
BEGIN:VEVENT
DTSTART;TZID=Asia/Qatar:20200118T000000
DTEND;TZID=Asia/Qatar:20200118T000000
DTSTAMP:20260423T103338
CREATED:20200510T185316Z
LAST-MODIFIED:20200510T185316Z
UID:1156-1579305600-1579305600@qatardebate.org
SUMMARY:TEDx Youth Aldafna
DESCRIPTION:QatarDebate is the Organizing Partner of TEDxYouth@AlDafna that will take place this Saturday. TEDxYouth@AlDafna is the first TEDx event to targets school students in Doha for the last 7 years. The conference aims to bring schools students together to discuss their thoughts\, ideas\, and ambitions.The conferecne presents 6 inspiring speakers as listed here: \n  \n\nDr. Anwar Dafallah (The Most Active TED Translator)\nAsmaa Al-Hamadi (Al-Jazeera Presenter)\nMohammad Khalid (Student at Texas A&M\, and one of the most active debaters in the AP schools tournaments for the last 3 years)\nYousef Al-Malki (High School Student and a debater)\nAlyaa Esam El-din (TA at CMU and a previous debater in EP)\nOla Hajawi (RA at QU and a previous debaters)\n\n  \nQatarDebate has been playing an incubational role for the organizing team providing them with venue\, room reservations\, catering\, printings\, logistics\, and communication support. We are also proud to see many young debaters among the organizing committee who are working very hard to execute this initiative for the local community.
URL:https://qatardebate.org/event/tedx-youth-aldafna/
ATTACH;FMTTYPE=image/jpeg:https://qatardebate.org/wp-content/uploads/2019/04/1dd4c7da44bcf50b71cb8ec37844eb86tmp-scaled-1.jpg
END:VEVENT
BEGIN:VEVENT
DTSTART;TZID=Asia/Qatar:20200112T000000
DTEND;TZID=Asia/Qatar:20200115T000000
DTSTAMP:20260423T103338
CREATED:20200510T185325Z
LAST-MODIFIED:20200510T185325Z
UID:1158-1578787200-1579046400@qatardebate.org
SUMMARY:Adjudicators Academy - Qatar
DESCRIPTION:QatarDebate continues to expand its wide network of qualified adjudicators through the 3rd iteration of the Adjudicators Academy in Qatar\, participants in the academy will aid QatarDebate in judging local & international debate tournaments.
URL:https://qatardebate.org/event/adjudicators-academy-qatar/
ATTACH;FMTTYPE=image/jpeg:https://qatardebate.org/wp-content/uploads/2019/04/798e96673de72766b6bcb2994212cfc4tmp-scaled-1.jpg
END:VEVENT
BEGIN:VEVENT
DTSTART;TZID=Asia/Qatar:20200112T000000
DTEND;TZID=Asia/Qatar:20200115T000000
DTSTAMP:20260423T103338
CREATED:20200510T185153Z
LAST-MODIFIED:20200510T185153Z
UID:1122-1578787200-1579046400@qatardebate.org
SUMMARY:Introduction to the art of debates
DESCRIPTION:  \nOverview \nThis workshop is an advanced workshop on debate skills\, where participants will learn all the tools and necessary skills to become successful debaters. \nThe workshop will overview debate format according to QatarDebate style along with various skills needed in debates such as argumentation\, critical thinking\, persuasion\, refutation and many more. \n  \n  \n  \nDate: 12th – 15th January 2020. \nTime: 4:30 pm – 7:00 pm \n  \n*This workshop is in Arabic
URL:https://qatardebate.org/event/introduction-to-the-art-of-debates/
END:VEVENT
BEGIN:VEVENT
DTSTART;TZID=Asia/Qatar:20191222T000000
DTEND;TZID=Asia/Qatar:20191226T000000
DTSTAMP:20260423T103338
CREATED:20200510T185143Z
LAST-MODIFIED:20200510T185143Z
UID:1120-1576972800-1577318400@qatardebate.org
SUMMARY:Adjudication Academy - Oman
DESCRIPTION:QatarDebate is plead
URL:https://qatardebate.org/event/adjudication-academy-oman/
END:VEVENT
BEGIN:VEVENT
DTSTART;TZID=Asia/Qatar:20191216T000000
DTEND;TZID=Asia/Qatar:20191216T000000
DTSTAMP:20260423T103338
CREATED:20200510T185344Z
LAST-MODIFIED:20200510T185344Z
UID:1168-1576454400-1576454400@qatardebate.org
SUMMARY:QND event at Darb Alsaai
DESCRIPTION:The final round of QatarDebate’s event for the National day\, the debaters discussed the importance of the national service along with the importance of usage of the Arabic language in the school curriculum.
URL:https://qatardebate.org/event/qnd-event-at-darb-alsaai/
ATTACH;FMTTYPE=image/jpeg:https://qatardebate.org/wp-content/uploads/2019/04/26df5cd9e709cfff8c5ed2d15d9924batmp-1.jpg
END:VEVENT
END:VCALENDAR