BEGIN:VCALENDAR
VERSION:2.0
PRODID:-//QatarDebate Center - ECPv6.15.20//NONSGML v1.0//EN
CALSCALE:GREGORIAN
METHOD:PUBLISH
X-WR-CALNAME:QatarDebate Center
X-ORIGINAL-URL:https://qatardebate.org
X-WR-CALDESC:Events for QatarDebate Center
REFRESH-INTERVAL;VALUE=DURATION:PT1H
X-Robots-Tag:noindex
X-PUBLISHED-TTL:PT1H
BEGIN:VTIMEZONE
TZID:Asia/Qatar
BEGIN:STANDARD
TZOFFSETFROM:+0300
TZOFFSETTO:+0300
TZNAME:+03
DTSTART:20240101T000000
END:STANDARD
END:VTIMEZONE
BEGIN:VEVENT
DTSTART;TZID=Asia/Qatar:20251104T080000
DTEND;TZID=Asia/Qatar:20251106T170000
DTSTAMP:20260420T024344
CREATED:20250923T022650Z
LAST-MODIFIED:20250923T025654Z
UID:20978-1762243200-1762448400@qatardebate.org
SUMMARY:QatarDebate at the World Summit for Social Development
DESCRIPTION:Overview				\n				\n				\n				\n									This camp seeks to demonstrate the value of debate as a significant life skill that enhances dialogue and grants those who master it critical thinking skills.   This camp is also considered as a form of investing in the next generation and offering them the tools that helps them to develop and chart a prosperous future for their country.   The camp comes during the end of the year holidays to ensure that children’s time is filled with what will avail their lives and their educational journey. This camp will be utilizing learning methods that avoid monotony and tends to go through the interactive activities to teach children and open an area of fun that is not usually found in classrooms. 								\n				\n				\n				\n					Program Details				\n				\n				\n						\n					\n			\n						\n				\n							\n\n						\n				\n								\n			\n			\n						\n\n									\n						\n							Date & Time						\n					\n				\n									\n						Sunday\, 23 July - Thursday 27 July 2023\n\n9:00 am - 1:00 pm.					 \n				\n			\n			\n		\n						\n				\n					\n		\n				\n			\n						\n				\n							\n\n						\n				\n								\n			\n			\n						\n\n									\n						\n							Location						\n					\n				\n									\n						QatarDebate Center - Multaqa\, Education City.					 \n				\n			\n			\n		\n						\n				\n					\n		\n					\n		\n				\n						\n					\n			\n						\n				\n							\n\n						\n				\n								\n			\n			\n						\n\n									\n						\n							Target Audience						\n					\n				\n									\n						Students of age group (10 - 13 years old).					 \n				\n			\n			\n		\n						\n				\n					\n		\n				\n			\n						\n				\n							\n\n						\n				\n								\n			\n			\n						\n\n									\n						\n							Language						\n					\n				\n									\n						Program will be in Arabic Language					 \n				\n			\n			\n		\n						\n				\n					\n		\n					\n		\n				\n				\n					Register Now				\n				\n				\n				\n									\n					\n						\n									Click Here to Register\n					\n					\n				\n								\n				\n				\n				\n									*Registration Fee: 500 QAR 								\n				\n				\n				\n					Program Content				\n				\n				\n				\n									1- Public speaking: learning the art of speech\, realizing the importance of speech in persuading\, identifying the steps of proper information delivery\, and preparing a good opening speech.     2- Leadership skills: understanding the importance of working within a team and planning for the teams to reach the best desired result.     3- Critical thinking skills: Recognizing the meaning of critical thinking\, its importance and applying those skills practically.     4- What is debate: Learn to practice debate via understanding the elements of debate speech and training on case building\, argumentation\, and refutation.   5- Mini-Tournament: A three-round tournament\, in which the best team and three speakers will win\, based on modified criteria that fits the topics presented in the workshops.
URL:https://qatardebate.org/event/qd-wss/
LOCATION:QNCC – Qatar National Convention Center\, Education City\, Doha\, Doha\, 00974\, Qatar
CATEGORIES:Outreach Programs
ATTACH;FMTTYPE=image/jpeg:https://qatardebate.org/wp-content/uploads/2025/09/WhatsApp-Image-2025-09-23-at-5.24.45-AM.jpeg
END:VEVENT
BEGIN:VEVENT
DTSTART;TZID=Asia/Qatar:20251203T080000
DTEND;TZID=Asia/Qatar:20251204T170000
DTSTAMP:20260420T024344
CREATED:20250818T065926Z
LAST-MODIFIED:20250818T070232Z
UID:20780-1764748800-1764867600@qatardebate.org
SUMMARY:Doha Forum: Youth Edition 2025
DESCRIPTION:Overview				\n				\n				\n				\n									This camp seeks to demonstrate the value of debate as a significant life skill that enhances dialogue and grants those who master it critical thinking skills.   This camp is also considered as a form of investing in the next generation and offering them the tools that helps them to develop and chart a prosperous future for their country.   The camp comes during the end of the year holidays to ensure that children’s time is filled with what will avail their lives and their educational journey. This camp will be utilizing learning methods that avoid monotony and tends to go through the interactive activities to teach children and open an area of fun that is not usually found in classrooms. 								\n				\n				\n				\n					Program Details				\n				\n				\n						\n					\n			\n						\n				\n							\n\n						\n				\n								\n			\n			\n						\n\n									\n						\n							Date & Time						\n					\n				\n									\n						Sunday\, 23 July - Thursday 27 July 2023\n\n9:00 am - 1:00 pm.					 \n				\n			\n			\n		\n						\n				\n					\n		\n				\n			\n						\n				\n							\n\n						\n				\n								\n			\n			\n						\n\n									\n						\n							Location						\n					\n				\n									\n						QatarDebate Center - Multaqa\, Education City.					 \n				\n			\n			\n		\n						\n				\n					\n		\n					\n		\n				\n						\n					\n			\n						\n				\n							\n\n						\n				\n								\n			\n			\n						\n\n									\n						\n							Target Audience						\n					\n				\n									\n						Students of age group (10 - 13 years old).					 \n				\n			\n			\n		\n						\n				\n					\n		\n				\n			\n						\n				\n							\n\n						\n				\n								\n			\n			\n						\n\n									\n						\n							Language						\n					\n				\n									\n						Program will be in Arabic Language					 \n				\n			\n			\n		\n						\n				\n					\n		\n					\n		\n				\n				\n					Register Now				\n				\n				\n				\n									\n					\n						\n									Click Here to Register\n					\n					\n				\n								\n				\n				\n				\n									*Registration Fee: 500 QAR 								\n				\n				\n				\n					Program Content				\n				\n				\n				\n									1- Public speaking: learning the art of speech\, realizing the importance of speech in persuading\, identifying the steps of proper information delivery\, and preparing a good opening speech.     2- Leadership skills: understanding the importance of working within a team and planning for the teams to reach the best desired result.     3- Critical thinking skills: Recognizing the meaning of critical thinking\, its importance and applying those skills practically.     4- What is debate: Learn to practice debate via understanding the elements of debate speech and training on case building\, argumentation\, and refutation.   5- Mini-Tournament: A three-round tournament\, in which the best team and three speakers will win\, based on modified criteria that fits the topics presented in the workshops.
URL:https://qatardebate.org/event/dfye-2025/
LOCATION:Doha\, Qatar\, Education City\, Doha\, Doha\, 00974\, Qatar
CATEGORIES:English Programs,Outreach Programs
ATTACH;FMTTYPE=image/jpeg:https://qatardebate.org/wp-content/uploads/2025/03/DFYE24-5.jpeg
ORGANIZER;CN="QatarDebate":MAILTO:qatardebate@qf.org.qa
END:VEVENT
BEGIN:VEVENT
DTSTART;VALUE=DATE:20260109
DTEND;VALUE=DATE:20260112
DTSTAMP:20260420T024344
CREATED:20250323T141239Z
LAST-MODIFIED:20251210T073306Z
UID:19988-1767916800-1768175999@qatardebate.org
SUMMARY:7th ISDC - Final Rounds
DESCRIPTION:Overview				\n				\n				\n				\n									This camp seeks to demonstrate the value of debate as a significant life skill that enhances dialogue and grants those who master it critical thinking skills.   This camp is also considered as a form of investing in the next generation and offering them the tools that helps them to develop and chart a prosperous future for their country.   The camp comes during the end of the year holidays to ensure that children’s time is filled with what will avail their lives and their educational journey. This camp will be utilizing learning methods that avoid monotony and tends to go through the interactive activities to teach children and open an area of fun that is not usually found in classrooms. 								\n				\n				\n				\n					Program Details				\n				\n				\n						\n					\n			\n						\n				\n							\n\n						\n				\n								\n			\n			\n						\n\n									\n						\n							Date & Time						\n					\n				\n									\n						Sunday\, 23 July - Thursday 27 July 2023\n\n9:00 am - 1:00 pm.					 \n				\n			\n			\n		\n						\n				\n					\n		\n				\n			\n						\n				\n							\n\n						\n				\n								\n			\n			\n						\n\n									\n						\n							Location						\n					\n				\n									\n						QatarDebate Center - Multaqa\, Education City.					 \n				\n			\n			\n		\n						\n				\n					\n		\n					\n		\n				\n						\n					\n			\n						\n				\n							\n\n						\n				\n								\n			\n			\n						\n\n									\n						\n							Target Audience						\n					\n				\n									\n						Students of age group (10 - 13 years old).					 \n				\n			\n			\n		\n						\n				\n					\n		\n				\n			\n						\n				\n							\n\n						\n				\n								\n			\n			\n						\n\n									\n						\n							Language						\n					\n				\n									\n						Program will be in Arabic Language					 \n				\n			\n			\n		\n						\n				\n					\n		\n					\n		\n				\n				\n					Register Now				\n				\n				\n				\n									\n					\n						\n									Click Here to Register\n					\n					\n				\n								\n				\n				\n				\n									*Registration Fee: 500 QAR 								\n				\n				\n				\n					Program Content				\n				\n				\n				\n									1- Public speaking: learning the art of speech\, realizing the importance of speech in persuading\, identifying the steps of proper information delivery\, and preparing a good opening speech.     2- Leadership skills: understanding the importance of working within a team and planning for the teams to reach the best desired result.     3- Critical thinking skills: Recognizing the meaning of critical thinking\, its importance and applying those skills practically.     4- What is debate: Learn to practice debate via understanding the elements of debate speech and training on case building\, argumentation\, and refutation.   5- Mini-Tournament: A three-round tournament\, in which the best team and three speakers will win\, based on modified criteria that fits the topics presented in the workshops.
URL:https://qatardebate.org/event/isdc7-final-rounds/
LOCATION:QatarDebate Center\, Education City\, Doha\, Doha\, 00974\, Qatar
CATEGORIES:Arabic Programs,Outreach Programs
ATTACH;FMTTYPE=image/jpeg:https://qatardebate.org/wp-content/uploads/2024/02/ISDC6.jpeg
ORGANIZER;CN="QatarDebate":MAILTO:qatardebate@qf.org.qa
END:VEVENT
END:VCALENDAR