BEGIN:VCALENDAR
VERSION:2.0
PRODID:-//QatarDebate Center - ECPv6.15.20//NONSGML v1.0//EN
CALSCALE:GREGORIAN
METHOD:PUBLISH
X-WR-CALNAME:QatarDebate Center
X-ORIGINAL-URL:https://qatardebate.org/ar/
X-WR-CALDESC:Events for QatarDebate Center
REFRESH-INTERVAL;VALUE=DURATION:PT1H
X-Robots-Tag:noindex
X-PUBLISHED-TTL:PT1H
BEGIN:VTIMEZONE
TZID:Asia/Qatar
BEGIN:STANDARD
TZOFFSETFROM:+0300
TZOFFSETTO:+0300
TZNAME:+03
DTSTART:20220101T000000
END:STANDARD
END:VTIMEZONE
BEGIN:VEVENT
DTSTART;TZID=Asia/Qatar:20231224T090000
DTEND;TZID=Asia/Qatar:20231227T120000
DTSTAMP:20260420T042111
CREATED:20231128T121754Z
LAST-MODIFIED:20231129T100327Z
UID:13810-1703408400-1703678400@qatardebate.org
SUMMARY:معسكر مناظرات قطر الشتوي
DESCRIPTION:نبذة عامة				\n				\n				\n				\n							\n			\n						\n		\n						\n				\n				\n				\n									نظراً للظروف الراهنة وحرصاً على سلامة جميع المشاركين، سيتم تأجيل البطولة الدولية الثامنة لمناظرات الجامعات حتى إشعار آخر. نُقدّر تفهمكم لهذا القرار، وسيتم تزويدكم بكافة المستجدات المتعلقة بالمواعيد الجديدة حال اعتمادها. 								\n				\n				\n				\n					تفاصيل البرنامج				\n				\n				\n						\n					\n			\n						\n				\n							\n\n						\n				\n								\n			\n			\n						\n\n									\n						\n							التاريخ						\n					\n				\n									\n						تم تأجيل البطولة، سيتم مشاركة المواعيد الجديدة قريبا					 \n				\n			\n			\n		\n						\n				\n					\n		\n				\n			\n						\n				\n							\n\n						\n				\n								\n			\n			\n						\n\n									\n						\n							المكان						\n					\n				\n									\n						الدوحة، قطر 					 \n				\n			\n			\n		\n						\n				\n					\n		\n					\n		\n				\n				\n					اكتشف المزيد من هنا				\n				\n				\n				\n									\n					\n						\n									اضغط هنا
URL:https://qatardebate.org/ar/event-ar/qatardebate-winter-camp/
LOCATION:QatarDebate Center\, Education City\, Doha\, Doha\, 00974\, Qatar
CATEGORIES:قسم اللغة العربية
ATTACH;FMTTYPE=image/jpeg:https://qatardebate.org/wp-content/uploads/2023/11/AC4I9339.jpg
ORGANIZER;CN="QatarDebate":MAILTO:qatardebate@qf.org.qa
END:VEVENT
END:VCALENDAR