BEGIN:VCALENDAR
VERSION:2.0
PRODID:-//QatarDebate Center - ECPv6.15.20//NONSGML v1.0//EN
CALSCALE:GREGORIAN
METHOD:PUBLISH
X-WR-CALNAME:QatarDebate Center
X-ORIGINAL-URL:https://qatardebate.org/ar/
X-WR-CALDESC:Events for QatarDebate Center
REFRESH-INTERVAL;VALUE=DURATION:PT1H
X-Robots-Tag:noindex
X-PUBLISHED-TTL:PT1H
BEGIN:VTIMEZONE
TZID:Asia/Qatar
BEGIN:STANDARD
TZOFFSETFROM:+0300
TZOFFSETTO:+0300
TZNAME:+03
DTSTART:20240101T000000
END:STANDARD
END:VTIMEZONE
BEGIN:VEVENT
DTSTART;TZID=Asia/Qatar:20251222T090000
DTEND;TZID=Asia/Qatar:20251224T130000
DTSTAMP:20260420T042637
CREATED:20251210T083118Z
LAST-MODIFIED:20251211T062113Z
UID:21761-1766394000-1766581200@qatardebate.org
SUMMARY:معسكر المناظرات الشتوي باللغة الإنجليزية
DESCRIPTION:هوية أرض فلسطين\nبين إنسانها وعمرانها				\n				\n				\n				\n					جلسة حوارية من تنظيم مركز مناظرات قطر ومبادرة قطر تقرأ				\n				\n					\n		\n					\n		\n				\n						\n					\n			\n							\n		\n				\n			\n						\n				\n					نبذة عامة				\n				\n				\n				\n									انضم إلينا في حلقة نقاشية شيقة ينظمها مركز مناظرات قطر ومبادرة قطر تقرأ، حيث نستكشف دور التخطيط العمراني والهندسة المعمارية في تشكيل الهوية الفلسطينية. ستسلط هذه الجلسة الضوء على كيفية استخدام الفلسطينيين للتخطيط العمراني والاستراتيجيات المعمارية كأدوات للصمود والمثابرة في مواجهة التحديات. وسنبحث أيضًا كيف يتم استخدام نفس هذه الأدوات من الاحتلال الإسرائيلي كآليات للسيطرة والاحتلال. 								\n				\n				\n				\n					تفاصيل البرنامج				\n				\n				\n						\n					\n			\n						\n				\n							\n\n						\n				\n								\n			\n			\n						\n\n									\n						\n							التاريخ والوقت						\n					\n				\n									\n						الأحد\, 8 سبتمبر 2024 \n\n7:00  - 8:00 مساء					 \n				\n			\n			\n		\n						\n				\n					\n		\n				\n			\n						\n				\n							\n\n						\n				\n								\n			\n			\n						\n\n									\n						\n							المكان						\n					\n				\n									\n						مشيرب قلب الدوحة\n \nجاليري 2 في مبني M7 - براحة مشيرب					 \n				\n			\n			\n		\n						\n				\n					\n		\n					\n		\n				\n				\n					سجل الآن				\n				\n				\n				\n									\n					\n						\n									اضغط هنا\n					\n					\n				\n								\n				\n				\n				\n					تعرف على المتحدثين				\n				\n					\n		\n				\n			\n							\n		\n					\n		\n				\n						\n					\n			\n						\n				\n																														\n				\n				\n				\n					د. علي عبدالرؤوف				\n				\n					\n		\n				\n			\n						\n				\n																														\n				\n				\n				\n					د. اسماعيل ناشف				\n				\n					\n		\n				\n			\n						\n				\n																														\n				\n				\n				\n					شدى سلهب				\n				\n					\n		\n					\n		\n				\n						\n					\n			\n						\n				\n					مديرة الجلسة:				\n				\n				\n				\n																														\n				\n				\n				\n					نجلة الجابر				\n				\n					\n		\n				\n			\n							\n		\n				\n			\n							\n		\n					\n		\n				\n						\n					\n			\n						\n				\n							\n			\n		\n						\n				\n					\n		\n					\n		\n				\n						\n					\n			\n						\n				\n							\n			\n						\n		\n						\n				\n					\n		\n					\n		\n				\n						\n					\n			\n						\n				\n					بالتعاون مع:
URL:https://qatardebate.org/ar/event-ar/qatardebate-winter-camp-2/
LOCATION:QatarDebate Center\, Education City\, Doha\, Doha\, 00974\, Qatar
ATTACH;FMTTYPE=image/jpeg:https://qatardebate.org/wp-content/uploads/2025/12/Summer-Camp1.jpeg
ORGANIZER;CN="QatarDebate":MAILTO:qatardebate@qf.org.qa
END:VEVENT
BEGIN:VEVENT
DTSTART;VALUE=DATE:20260109
DTEND;VALUE=DATE:20260112
DTSTAMP:20260420T042637
CREATED:20250323T141239Z
LAST-MODIFIED:20251210T082201Z
UID:19994-1767916800-1768175999@qatardebate.org
SUMMARY:البطولة الدولية السابعة لمناظرات المدارس - مرحلة النهائيات
DESCRIPTION:هوية أرض فلسطين\nبين إنسانها وعمرانها				\n				\n				\n				\n					جلسة حوارية من تنظيم مركز مناظرات قطر ومبادرة قطر تقرأ				\n				\n					\n		\n					\n		\n				\n						\n					\n			\n							\n		\n				\n			\n						\n				\n					نبذة عامة				\n				\n				\n				\n									انضم إلينا في حلقة نقاشية شيقة ينظمها مركز مناظرات قطر ومبادرة قطر تقرأ، حيث نستكشف دور التخطيط العمراني والهندسة المعمارية في تشكيل الهوية الفلسطينية. ستسلط هذه الجلسة الضوء على كيفية استخدام الفلسطينيين للتخطيط العمراني والاستراتيجيات المعمارية كأدوات للصمود والمثابرة في مواجهة التحديات. وسنبحث أيضًا كيف يتم استخدام نفس هذه الأدوات من الاحتلال الإسرائيلي كآليات للسيطرة والاحتلال. 								\n				\n				\n				\n					تفاصيل البرنامج				\n				\n				\n						\n					\n			\n						\n				\n							\n\n						\n				\n								\n			\n			\n						\n\n									\n						\n							التاريخ والوقت						\n					\n				\n									\n						الأحد\, 8 سبتمبر 2024 \n\n7:00  - 8:00 مساء					 \n				\n			\n			\n		\n						\n				\n					\n		\n				\n			\n						\n				\n							\n\n						\n				\n								\n			\n			\n						\n\n									\n						\n							المكان						\n					\n				\n									\n						مشيرب قلب الدوحة\n \nجاليري 2 في مبني M7 - براحة مشيرب					 \n				\n			\n			\n		\n						\n				\n					\n		\n					\n		\n				\n				\n					سجل الآن				\n				\n				\n				\n									\n					\n						\n									اضغط هنا\n					\n					\n				\n								\n				\n				\n				\n					تعرف على المتحدثين				\n				\n					\n		\n				\n			\n							\n		\n					\n		\n				\n						\n					\n			\n						\n				\n																														\n				\n				\n				\n					د. علي عبدالرؤوف				\n				\n					\n		\n				\n			\n						\n				\n																														\n				\n				\n				\n					د. اسماعيل ناشف				\n				\n					\n		\n				\n			\n						\n				\n																														\n				\n				\n				\n					شدى سلهب				\n				\n					\n		\n					\n		\n				\n						\n					\n			\n						\n				\n					مديرة الجلسة:				\n				\n				\n				\n																														\n				\n				\n				\n					نجلة الجابر				\n				\n					\n		\n				\n			\n							\n		\n				\n			\n							\n		\n					\n		\n				\n						\n					\n			\n						\n				\n							\n			\n		\n						\n				\n					\n		\n					\n		\n				\n						\n					\n			\n						\n				\n							\n			\n						\n		\n						\n				\n					\n		\n					\n		\n				\n						\n					\n			\n						\n				\n					بالتعاون مع:
URL:https://qatardebate.org/ar/event-ar/isdc7-final-rounds/
LOCATION:QatarDebate Center\, Education City\, Doha\, Doha\, 00974\, Qatar
CATEGORIES:Arabic Programs,Outreach Programs
ATTACH;FMTTYPE=image/jpeg:https://qatardebate.org/wp-content/uploads/2024/02/ISDC6.jpeg
ORGANIZER;CN="QatarDebate":MAILTO:qatardebate@qf.org.qa
END:VEVENT
BEGIN:VEVENT
DTSTART;TZID=Asia/Qatar:20260113T160000
DTEND;TZID=Asia/Qatar:20260303T180000
DTSTAMP:20260420T042637
CREATED:20251106T084545Z
LAST-MODIFIED:20251210T102359Z
UID:21744-1768320000-1772560800@qatardebate.org
SUMMARY:أكاديمية المناظرات - ربيع 2026
DESCRIPTION:هوية أرض فلسطين\nبين إنسانها وعمرانها				\n				\n				\n				\n					جلسة حوارية من تنظيم مركز مناظرات قطر ومبادرة قطر تقرأ				\n				\n					\n		\n					\n		\n				\n						\n					\n			\n							\n		\n				\n			\n						\n				\n					نبذة عامة				\n				\n				\n				\n									انضم إلينا في حلقة نقاشية شيقة ينظمها مركز مناظرات قطر ومبادرة قطر تقرأ، حيث نستكشف دور التخطيط العمراني والهندسة المعمارية في تشكيل الهوية الفلسطينية. ستسلط هذه الجلسة الضوء على كيفية استخدام الفلسطينيين للتخطيط العمراني والاستراتيجيات المعمارية كأدوات للصمود والمثابرة في مواجهة التحديات. وسنبحث أيضًا كيف يتم استخدام نفس هذه الأدوات من الاحتلال الإسرائيلي كآليات للسيطرة والاحتلال. 								\n				\n				\n				\n					تفاصيل البرنامج				\n				\n				\n						\n					\n			\n						\n				\n							\n\n						\n				\n								\n			\n			\n						\n\n									\n						\n							التاريخ والوقت						\n					\n				\n									\n						الأحد\, 8 سبتمبر 2024 \n\n7:00  - 8:00 مساء					 \n				\n			\n			\n		\n						\n				\n					\n		\n				\n			\n						\n				\n							\n\n						\n				\n								\n			\n			\n						\n\n									\n						\n							المكان						\n					\n				\n									\n						مشيرب قلب الدوحة\n \nجاليري 2 في مبني M7 - براحة مشيرب					 \n				\n			\n			\n		\n						\n				\n					\n		\n					\n		\n				\n				\n					سجل الآن				\n				\n				\n				\n									\n					\n						\n									اضغط هنا\n					\n					\n				\n								\n				\n				\n				\n					تعرف على المتحدثين				\n				\n					\n		\n				\n			\n							\n		\n					\n		\n				\n						\n					\n			\n						\n				\n																														\n				\n				\n				\n					د. علي عبدالرؤوف				\n				\n					\n		\n				\n			\n						\n				\n																														\n				\n				\n				\n					د. اسماعيل ناشف				\n				\n					\n		\n				\n			\n						\n				\n																														\n				\n				\n				\n					شدى سلهب				\n				\n					\n		\n					\n		\n				\n						\n					\n			\n						\n				\n					مديرة الجلسة:				\n				\n				\n				\n																														\n				\n				\n				\n					نجلة الجابر				\n				\n					\n		\n				\n			\n							\n		\n				\n			\n							\n		\n					\n		\n				\n						\n					\n			\n						\n				\n							\n			\n		\n						\n				\n					\n		\n					\n		\n				\n						\n					\n			\n						\n				\n							\n			\n						\n		\n						\n				\n					\n		\n					\n		\n				\n						\n					\n			\n						\n				\n					بالتعاون مع:
URL:https://qatardebate.org/ar/event-ar/debate-academy-spring-2026/
LOCATION:QatarDebate Center\, Education City\, Doha\, Doha\, 00974\, Qatar
ATTACH;FMTTYPE=image/jpeg:https://qatardebate.org/wp-content/uploads/2018/07/Debate-Academy-Spring-2026.jpeg
ORGANIZER;CN="QatarDebate":MAILTO:qatardebate@qf.org.qa
END:VEVENT
BEGIN:VEVENT
DTSTART;TZID=Asia/Qatar:20260701T080000
DTEND;TZID=Asia/Qatar:20261031T170000
DTSTAMP:20260420T042637
CREATED:20260308T110909Z
LAST-MODIFIED:20260412T070805Z
UID:22173-1782892800-1793466000@qatardebate.org
SUMMARY:البطولة الدولية الثامنة لمناظرات الجامعات
DESCRIPTION:هوية أرض فلسطين\nبين إنسانها وعمرانها				\n				\n				\n				\n					جلسة حوارية من تنظيم مركز مناظرات قطر ومبادرة قطر تقرأ				\n				\n					\n		\n					\n		\n				\n						\n					\n			\n							\n		\n				\n			\n						\n				\n					نبذة عامة				\n				\n				\n				\n									انضم إلينا في حلقة نقاشية شيقة ينظمها مركز مناظرات قطر ومبادرة قطر تقرأ، حيث نستكشف دور التخطيط العمراني والهندسة المعمارية في تشكيل الهوية الفلسطينية. ستسلط هذه الجلسة الضوء على كيفية استخدام الفلسطينيين للتخطيط العمراني والاستراتيجيات المعمارية كأدوات للصمود والمثابرة في مواجهة التحديات. وسنبحث أيضًا كيف يتم استخدام نفس هذه الأدوات من الاحتلال الإسرائيلي كآليات للسيطرة والاحتلال. 								\n				\n				\n				\n					تفاصيل البرنامج				\n				\n				\n						\n					\n			\n						\n				\n							\n\n						\n				\n								\n			\n			\n						\n\n									\n						\n							التاريخ والوقت						\n					\n				\n									\n						الأحد\, 8 سبتمبر 2024 \n\n7:00  - 8:00 مساء					 \n				\n			\n			\n		\n						\n				\n					\n		\n				\n			\n						\n				\n							\n\n						\n				\n								\n			\n			\n						\n\n									\n						\n							المكان						\n					\n				\n									\n						مشيرب قلب الدوحة\n \nجاليري 2 في مبني M7 - براحة مشيرب					 \n				\n			\n			\n		\n						\n				\n					\n		\n					\n		\n				\n				\n					سجل الآن				\n				\n				\n				\n									\n					\n						\n									اضغط هنا\n					\n					\n				\n								\n				\n				\n				\n					تعرف على المتحدثين				\n				\n					\n		\n				\n			\n							\n		\n					\n		\n				\n						\n					\n			\n						\n				\n																														\n				\n				\n				\n					د. علي عبدالرؤوف				\n				\n					\n		\n				\n			\n						\n				\n																														\n				\n				\n				\n					د. اسماعيل ناشف				\n				\n					\n		\n				\n			\n						\n				\n																														\n				\n				\n				\n					شدى سلهب				\n				\n					\n		\n					\n		\n				\n						\n					\n			\n						\n				\n					مديرة الجلسة:				\n				\n				\n				\n																														\n				\n				\n				\n					نجلة الجابر				\n				\n					\n		\n				\n			\n							\n		\n				\n			\n							\n		\n					\n		\n				\n						\n					\n			\n						\n				\n							\n			\n		\n						\n				\n					\n		\n					\n		\n				\n						\n					\n			\n						\n				\n							\n			\n						\n		\n						\n				\n					\n		\n					\n		\n				\n						\n					\n			\n						\n				\n					بالتعاون مع:
URL:https://qatardebate.org/ar/event-ar/%d8%a7%d9%84%d8%a8%d8%b7%d9%88%d9%84%d8%a9-%d8%a7%d9%84%d8%af%d9%88%d9%84%d9%8a%d8%a9-%d8%a7%d9%84%d8%ab%d8%a7%d9%85%d9%86%d8%a9-%d9%84%d9%85%d9%86%d8%a7%d8%b8%d8%b1%d8%a7%d8%aa-%d8%a7%d9%84%d8%ac/
LOCATION:QNCC – Qatar National Convention Center\, Education City\, Doha\, Doha\, 00974\, Qatar
CATEGORIES:Arabic Programs,Arabic Programs
ATTACH;FMTTYPE=image/png:https://qatardebate.org/wp-content/uploads/2024/03/IUDC-Logo-SMALL-01.png
ORGANIZER;CN="QatarDebate":MAILTO:qatardebate@qf.org.qa
END:VEVENT
END:VCALENDAR