BEGIN:VCALENDAR
VERSION:2.0
PRODID:-//QatarDebate Center - ECPv6.15.20//NONSGML v1.0//EN
CALSCALE:GREGORIAN
METHOD:PUBLISH
X-WR-CALNAME:QatarDebate Center
X-ORIGINAL-URL:https://qatardebate.org/ar/
X-WR-CALDESC:Events for QatarDebate Center
REFRESH-INTERVAL;VALUE=DURATION:PT1H
X-Robots-Tag:noindex
X-PUBLISHED-TTL:PT1H
BEGIN:VTIMEZONE
TZID:Asia/Qatar
BEGIN:STANDARD
TZOFFSETFROM:+0300
TZOFFSETTO:+0300
TZNAME:+03
DTSTART:20190101T000000
END:STANDARD
END:VTIMEZONE
BEGIN:VEVENT
DTSTART;TZID=Asia/Qatar:20200627T080000
DTEND;TZID=Asia/Qatar:20200718T170000
DTSTAMP:20260424T110134
CREATED:20200706T114706Z
LAST-MODIFIED:20200706T115027Z
UID:3462-1593244800-1595091600@qatardebate.org
SUMMARY:المعسكر الصيفي للمناظرة
DESCRIPTION:نبذة عن البرنامج				\n				\n				\n				\n									دعونا نحول الوعود إلى واقع في منتدى الدوحة: النسخة الشبابية 2025. كونوا ضمن من يصنعون الفرق، وسجلوا الآن في منتدى الدوحة: النسخة الشبابية 2025.يدعوكم مركز مناظرات قطر هذا العام، للتعمق في كيفية ترجمة الالتزامات إلى تغيير ملموس عبر محاور فرعية متنوعة تشمل: الجغرافيا السياسية، التنمية الاقتصادية، التقنيات الناشئة، الدبلوماسية الثقافية، والأمن.انضموا إلينا للمساهمة بأفكاركم المبتكرة وكونوا جزءاً من جيل يناضل من أجل تحقيق العدالة الحقيقية ويدفع بعجلة التقدم المستدام. 								\n				\n				\n				\n					تفاصيل البرنامج				\n				\n				\n						\n					\n			\n						\n				\n							\n\n						\n				\n								\n			\n			\n						\n\n									\n						\n							التاريخ						\n					\n				\n									\n						3 - 4 ديسمبر 2025					 \n				\n			\n			\n		\n						\n				\n					\n		\n				\n			\n						\n				\n							\n\n						\n				\n								\n			\n			\n						\n\n									\n						\n							المكان						\n					\n				\n									\n						الدوحة، قطر					 \n				\n			\n			\n		\n						\n				\n					\n		\n					\n		\n				\n				\n					اكتشف المزيد من هنا				\n				\n				\n				\n									\n					\n						\n									اضغط هنا
URL:https://qatardebate.org/ar/event-ar/debate-summer-camp/
LOCATION:QatarDebate Virtual Classroom\, Online\, Qatar
CATEGORIES:برامج التواصل,قسم اللغة العربية
ATTACH;FMTTYPE=image/jpeg:https://qatardebate.org/wp-content/uploads/2020/06/Summer-Camp-02-1.jpg
ORGANIZER;CN="QatarDebate":MAILTO:qatardebate@qf.org.qa
END:VEVENT
BEGIN:VEVENT
DTSTART;TZID=Asia/Qatar:20200707T190000
DTEND;TZID=Asia/Qatar:20200714T210000
DTSTAMP:20260424T110134
CREATED:20200706T121040Z
LAST-MODIFIED:20200706T123403Z
UID:3481-1594148400-1594760400@qatardebate.org
SUMMARY:التجمع الإلكتروني لأكاديمية النخبة
DESCRIPTION:نبذة عن البرنامج				\n				\n				\n				\n									دعونا نحول الوعود إلى واقع في منتدى الدوحة: النسخة الشبابية 2025. كونوا ضمن من يصنعون الفرق، وسجلوا الآن في منتدى الدوحة: النسخة الشبابية 2025.يدعوكم مركز مناظرات قطر هذا العام، للتعمق في كيفية ترجمة الالتزامات إلى تغيير ملموس عبر محاور فرعية متنوعة تشمل: الجغرافيا السياسية، التنمية الاقتصادية، التقنيات الناشئة، الدبلوماسية الثقافية، والأمن.انضموا إلينا للمساهمة بأفكاركم المبتكرة وكونوا جزءاً من جيل يناضل من أجل تحقيق العدالة الحقيقية ويدفع بعجلة التقدم المستدام. 								\n				\n				\n				\n					تفاصيل البرنامج				\n				\n				\n						\n					\n			\n						\n				\n							\n\n						\n				\n								\n			\n			\n						\n\n									\n						\n							التاريخ						\n					\n				\n									\n						3 - 4 ديسمبر 2025					 \n				\n			\n			\n		\n						\n				\n					\n		\n				\n			\n						\n				\n							\n\n						\n				\n								\n			\n			\n						\n\n									\n						\n							المكان						\n					\n				\n									\n						الدوحة، قطر					 \n				\n			\n			\n		\n						\n				\n					\n		\n					\n		\n				\n				\n					اكتشف المزيد من هنا				\n				\n				\n				\n									\n					\n						\n									اضغط هنا
URL:https://qatardebate.org/ar/event-ar/elite-academy-virtual-program/
LOCATION:QatarDebate Virtual Classroom\, Online\, Qatar
CATEGORIES:برامج التواصل
ATTACH;FMTTYPE=image/jpeg:https://qatardebate.org/wp-content/uploads/2020/07/DCS-223-scaled.jpg
ORGANIZER;CN="QatarDebate":MAILTO:qatardebate@qf.org.qa
END:VEVENT
END:VCALENDAR