BEGIN:VCALENDAR
VERSION:2.0
PRODID:-//QatarDebate Center - ECPv6.15.20//NONSGML v1.0//EN
CALSCALE:GREGORIAN
METHOD:PUBLISH
X-WR-CALNAME:QatarDebate Center
X-ORIGINAL-URL:https://qatardebate.org/ar/
X-WR-CALDESC:Events for QatarDebate Center
REFRESH-INTERVAL;VALUE=DURATION:PT1H
X-Robots-Tag:noindex
X-PUBLISHED-TTL:PT1H
BEGIN:VTIMEZONE
TZID:Asia/Qatar
BEGIN:STANDARD
TZOFFSETFROM:+0300
TZOFFSETTO:+0300
TZNAME:+03
DTSTART:20220101T000000
END:STANDARD
END:VTIMEZONE
BEGIN:VEVENT
DTSTART;VALUE=DATE:20230917
DTEND;VALUE=DATE:20231201
DTSTAMP:20260421T082608
CREATED:20230823T130438Z
LAST-MODIFIED:20230823T131307Z
UID:12205-1694908800-1701388799@qatardebate.org
SUMMARY:الفريق الوطني للمناظرات باللغة الإنجليزية
DESCRIPTION:نبذة عامة				\n				\n				\n				\n							\n			\n						\n		\n						\n				\n				\n				\n									نظراً للظروف الراهنة وحرصاً على سلامة جميع المشاركين، سيتم تأجيل البطولة الدولية الثامنة لمناظرات الجامعات حتى إشعار آخر. نُقدّر تفهمكم لهذا القرار، وسيتم تزويدكم بكافة المستجدات المتعلقة بالمواعيد الجديدة حال اعتمادها. 								\n				\n				\n				\n					تفاصيل البرنامج				\n				\n				\n						\n					\n			\n						\n				\n							\n\n						\n				\n								\n			\n			\n						\n\n									\n						\n							التاريخ						\n					\n				\n									\n						تم تأجيل البطولة، سيتم مشاركة المواعيد الجديدة قريبا					 \n				\n			\n			\n		\n						\n				\n					\n		\n				\n			\n						\n				\n							\n\n						\n				\n								\n			\n			\n						\n\n									\n						\n							المكان						\n					\n				\n									\n						الدوحة، قطر 					 \n				\n			\n			\n		\n						\n				\n					\n		\n					\n		\n				\n				\n					اكتشف المزيد من هنا				\n				\n				\n				\n									\n					\n						\n									اضغط هنا
URL:https://qatardebate.org/ar/event-ar/team-qatar/
LOCATION:QatarDebate Center\, Education City\, Doha\, Doha\, 00974\, Qatar
CATEGORIES:English Programs
ATTACH;FMTTYPE=image/jpeg:https://qatardebate.org/wp-content/uploads/2023/08/IMG_7987.jpg
ORGANIZER;CN="QatarDebate":MAILTO:qatardebate@qf.org.qa
END:VEVENT
BEGIN:VEVENT
DTSTART;TZID=Asia/Qatar:20230917T160000
DTEND;TZID=Asia/Qatar:20231127T180000
DTSTAMP:20260421T082608
CREATED:20230823T120847Z
LAST-MODIFIED:20230823T121934Z
UID:12188-1694966400-1701108000@qatardebate.org
SUMMARY:أكاديمية المناظرات باللغة الإنجليزية
DESCRIPTION:نبذة عامة				\n				\n				\n				\n							\n			\n						\n		\n						\n				\n				\n				\n									نظراً للظروف الراهنة وحرصاً على سلامة جميع المشاركين، سيتم تأجيل البطولة الدولية الثامنة لمناظرات الجامعات حتى إشعار آخر. نُقدّر تفهمكم لهذا القرار، وسيتم تزويدكم بكافة المستجدات المتعلقة بالمواعيد الجديدة حال اعتمادها. 								\n				\n				\n				\n					تفاصيل البرنامج				\n				\n				\n						\n					\n			\n						\n				\n							\n\n						\n				\n								\n			\n			\n						\n\n									\n						\n							التاريخ						\n					\n				\n									\n						تم تأجيل البطولة، سيتم مشاركة المواعيد الجديدة قريبا					 \n				\n			\n			\n		\n						\n				\n					\n		\n				\n			\n						\n				\n							\n\n						\n				\n								\n			\n			\n						\n\n									\n						\n							المكان						\n					\n				\n									\n						الدوحة، قطر 					 \n				\n			\n			\n		\n						\n				\n					\n		\n					\n		\n				\n				\n					اكتشف المزيد من هنا				\n				\n				\n				\n									\n					\n						\n									اضغط هنا
URL:https://qatardebate.org/ar/event-ar/debate-academy/
LOCATION:QatarDebate Center\, Education City\, Doha\, Doha\, 00974\, Qatar
CATEGORIES:English Programs,قسم اللغة الإنجليزية
ATTACH;FMTTYPE=image/jpeg:https://qatardebate.org/wp-content/uploads/2023/08/WhatsApp-Image-2023-08-23-at-2.49.16-PM.jpeg
ORGANIZER;CN="QatarDebate":MAILTO:qatardebate@qf.org.qa
END:VEVENT
END:VCALENDAR